BEGIN:VCALENDAR
VERSION:2.0
PRODID:icalendar-ruby
CALSCALE:GREGORIAN
X-WR-TIMEZONE:Europe/Helsinki
BEGIN:VTIMEZONE
TZID:Europe/Helsinki
BEGIN:DAYLIGHT
DTSTART:20260329T040000
TZOFFSETFROM:+0200
TZOFFSETTO:+0300
RRULE:FREQ=YEARLY;BYDAY=-1SU;BYMONTH=3
TZNAME:EEST
END:DAYLIGHT
BEGIN:STANDARD
DTSTART:20261025T030000
TZOFFSETFROM:+0300
TZOFFSETTO:+0200
RRULE:FREQ=YEARLY;BYDAY=-1SU;BYMONTH=10
TZNAME:EET
END:STANDARD
END:VTIMEZONE
BEGIN:VEVENT
DTSTAMP:20260422T131259
UID:heltri.myclub.fi-10387905
DTSTART;TZID=Europe/Helsinki:20260527T180000
DTEND;TZID=Europe/Helsinki:20260527T180000
DESCRIPTION:Helsinki Triathlon - KESÄENDURANCE treenipaketti\nTreenaa kes
 äkuussa kk-maksulla. Kesäendurance on aktiivisille ja tavoitteellisille 
 oman treeniohjelman mukaan harjoitteleville triathlonisteille suunnattu tr
 eenipaketti. Endurance-treenipaketti sopii hyvin sinulle\, joka tykkäät 
 harjoitella yhdessä muiden seuralaisten kanssa. Arvostat ohjattuja treene
 jä\, monipuolista treenivalikoimaa. Kesäendurance mahdollistaa sinulle s
 äännölliset treenit myös kesäkuussa.\nKesäendurance alkaa jo toukoku
 ussa ke 27.5.2026\nKesäendurance-treenipaketti:  Hinta:  79 €   Enduran
 ce-treenaajaksi ilmoittautuva hyväksyy seuraavat osallistumisehdot  Seura
 n jäsenyys Osallistuminen edellyttää seuran jäsenyyttä\, jäsenmaksu 
 maksetaan kalenterivuosittain. Lisätietoja seuran jäsenyydestä: https:/
 /heltri.fi/jasenyys/\nPäättyminen Kesäendurance-treenipaketti päättyy
  kaikilla kesäkuu\nHarjoituksiin ilmoittautuminen Endurance-treenaajan tu
 lee ilmoittautua jokaiseen yksittäiseen harjoitukseen etukäteen MyClubis
 sa. Osallistuminen harjoitukseen tulee poistaa myClubista\, jos treenaaja 
 ei pääsekään paikalle. Kesän harjoitukset alkavat täsmällisesti. Sa
 avu paikalla ajoissa ja kaikki varusteet valmiina kun treeni alkaa.\nAvove
 siuinti (juhannusviikolla ei ole treenejä torstaina) Toukokuu: Ke 27.5. 1
 9.00-19.45 Avovesiuinti: tule testaamaan Kuusijärven olosuhteen sunnuntai
 n 31.5. Rykäsyä varten - ohjaus Tytti Åberg  Kesäkuu: Ti 17.30-18.15 a
 vovesiuinti kaikki tasot - Tero Knuutila - Kuusijärvi Ke 18.30-19.15 avov
 esiuinti perusteet & 19.15-20.00 juoksutreeni (kevytvauhtinen) - Satu Alav
 alkama - Kuusijärvi To 17.30-19.00 juoksu & avovesiuinti: Kuusijärvellä
  to 4.6.\, muut torstain harjoitukset Oittaalla 11.6. ja 25.6. - kaikki ta
 sot - Kirsi Mattinen (avovesiuinti alkaa n. klo 18.15)\nPyöräily & yhdis
 telmätreenit (juhannusviikolla ei ole treenejä torstaina)\nKesäkuu Ti 1
 8.30-20.30 pyöräilytreeni "kova treeni" - Tero Knuutila - Kuusijärvi  K
 e 18.00-20.00 pyörä & juoksu yhdistelmätreeni - Kirsi Päiväniemi\, An
 ne Lehtinen - Kuusijärvi tai Kaitalampi  To 18.30-20.30 pyörä & juoksu 
 yhdistelmätreeni - Tero Knuutila - Kuusijärvi  To 18.30-19.45 pyöräily
 treeni - aloittelevat pyöräilijät - Satu Alavalkama - Malmin lentokentt
 ä\nLaskutusehdot Kesäendurance lasku muodostuu ilmoittautumisen yhteydes
 sä. Laskulla on 14 päivää maksuaikaa. Laskut ovat perintäkelpoisia. M
 aksuja ei palauteta. Perintätoimia hoitaa Visma Amili Oy. Tiedoksi\, ett
 ä Visma lähettää eräpäivän jälkeen nopealla aikataululla maksuhuom
 autuksia. Huolehdi maksut ajoissa\, niin sinulle ei tule ylimääräisiä 
 kuluja muistutuksista.  Maksutavat  Laskut voi maksaa viitenumeroa käytt
 äen verkkopankin kautta. Maksut ohjautuvat Visma Amili Oy:lle. Seuran las
 kuja voi maksaa liikuntaeduilla: ePassi\, Edenred\, Smartum\nVakuutusturva
  & lisenssi Jokainen osallistuja on velvoitettu huolehtimaan omasta vakuut
 usturvastaan harjoituksissa. Seuran jäsenillä on oltava harrastus- tai k
 ilpailulisenssi. Lisenssit: www.suomisport.fi\nYleiset ehdot Tärkeitä ti
 etoja Helsinki Triathlonin harjoituksiin osallistumisesta ja ehdoista: htt
 ps://heltri.fi/harjoitukset/ Helsinki Triathlon varaa oikeuden mahdollisii
 n muutoksiin tarvittaessa hinnoittelussa\, harjoituspaikoissa ja -ajoissa 
 myös kesken kauden.\nYhteystiedot toiminnanjohtaja Päivi Steffen\, tj@he
 ltri.fi\, 040 703 8845\n\nhttps://heltri.myclub.fi/flow/events/10387905
LOCATION:-\, 
SEQUENCE:0
SUMMARY:Helsinki Triathlon ry: Kesäendurance -treenipaketti
URL;VALUE=URI:https://heltri.myclub.fi/flow/events/10387905
END:VEVENT
END:VCALENDAR
